BEGIN:VCALENDAR
VERSION:2.0
PRODID:-//hacksw/handcal//NONSGML v1.0//EN
BEGIN:VEVENT
SUMMARY:samedi 25 avril a 13h30  Randonnee en Rouergue
UID:3d52fde6-d83a-4cb6-9553-5ee153af8bc9
DTSTART:20260425T113000Z
DTEND:20260425T153000Z
LOCATION:Localisation allee aristide briand 12200 Villefranche de Rouergue
CATEGORIES:Sportif
STATUS:
DESCRIPTION:<h2>Cyclo Rando du Rouergue - 47eme
 edition</h2>
 
 <h2>Samedi 25 Avril</h2>
 
 <p>DEPART A PARTIR DE
 13H30</p>
 
 <p>HALLE ARISTIDE BRIAND - VILLEFRANCHE DE
 ROUERGUE</p>
 
 <p> </p>
 
 <p>La participation est de 10€ pour les
 licencies (FFCT, UFOLEP, FFC, ...) et 13€ pour les non
 licencies.<br>
 Le paiement sera effectue avant le
 depart.</p>
 
 <p>Inscriptions a partir de 12h45 (Pour gagner du temps,
 inscrivez-vous en ligne)</p>
 
 <p>Cafe Fouace au depart,
 ravitaillement sur chaque circuits et boisson offerte a
 l'arrivee.</p>
 
 <p><u><strong>4 Parcours
 proposes:</strong></u></p>
 
 <p><u>Circuit 1: 110km - Denivele
 1500m:</u> <a
 href="https://www.openrunner.com/route-details/23208631"
 target="_blank" rel="noreferrer
 noopener">https://www.openrunner.com/route-details/23208631</a></p>
 
 <p><u>Circuit
 2: 86km - Denivele 1100m:</u> <a
 href="https://www.openrunner.com/route-details/23208745"
 target="_blank" rel="noreferrer
 noopener">https://www.openrunner.com/route-details/23208745</a></p>
 
 <p><u>Circuit
 3: 67 km - Denivele 800m:</u> <a
 href="https://www.openrunner.com/route-details/23208808"
 target="_blank" rel="noreferrer
 noopener">https://www.openrunner.com/route-details/23208808</a></p>
 
 <p><u>Circuit
 4;: 40km - Denivele 480m (accompagne):</u> <a
 href="https://www.openrunner.com/route-details/23155798"
 target="_blank" rel="noreferrer
 noopener">https://www.openrunner.com/route-details/23155798</a></p>
 
 <p><strong>Inscription
 en ligne ci-dessous jusqu'au 24 Avril</strong></p>
 
 <p>Conditions de
 participation pour les non licencies, vous devez avoir pris
 connaissance du questionnaire de sante et des regles
 d’or. </p>
 
 <p><strong>Ciquez:  <a
 href="https://www.cyclotourisme-villefranchederouergue.com/documents/questionnaire-sante-et-les10-regles-dor-361178"
 target="_blank" rel="noreferrer noopener">a lire avant
 l'inscription</a></strong></p>
 
 <p>Le reglement sera a lire sur place
 le jour du depart.</p>
URL;VALUE=URI:https://mcs.sportsregions.fr/evenements/2026/04/25/samedi-25-avril-a-13h30-randonnee-en-rouergue-2441811
END:VEVENT
END:VCALENDAR
