BEGIN:VCALENDAR
VERSION:2.0
PRODID:-//hacksw/handcal//NONSGML v1.0//EN
BEGIN:VEVENT
SUMMARY:Dimanche 19 avril 2026
UID:b61a2bf3-cfc3-4e19-a517-1ef2bc09bdec
DTSTART:20260419T063000Z
DTEND:20260419T100000Z
LOCATION:Localisation   
CATEGORIES:Sportif
STATUS:
DESCRIPTION:<p><u><strong><span style="font-size:18px;">Depart 08h30
 devant la mairie de Molieres</span></strong></u></p>
 
 <p><span
 style="font-size:18px;">DIMANCHE 5 AVRIL 2026 - 08h30 - 69 km - D+
 643 m -<strong> Op n°<a
 href="https://www.openrunner.com/route-details/23687313"
 target="_blank" rel="noreferrer
 noopener">23687313</a></strong></span></p>
 
 <p><span
 style="font-size:14px;">MOLIERES . L'HONOR-DE-COS .
 LAMOTHE-CAPDEVILLE . MIRABEL . REALVILLE . CAYRAC . BIOULE .
 SAINT-CIRQ . SEPTFONDS . CAUSSADE . MONTALZAT . MONTPEZAT-DE-QUERCY .
 MONTFERMIER . CASTELNAU-MONTRATIER . MOLIERES</span><span
 style="font-size:18px;">.</span></p>
URL;VALUE=URI:https://mcs.sportsregions.fr/evenements/2026/04/19/dimanche-19-avril-2026-2441470
END:VEVENT
END:VCALENDAR
