BEGIN:VCALENDAR
VERSION:2.0
PRODID:-//hacksw/handcal//NONSGML v1.0//EN
BEGIN:VEVENT
SUMMARY:dimanche 12 avril 2026
UID:44b99914-5e4e-494a-bc13-a8487b7c85dc
DTSTART:20260412T063000Z
DTEND:20260412T100000Z
LOCATION:Localisation   
CATEGORIES:Sportif
STATUS:
DESCRIPTION:<p>Depart 08h30 devant la mairie de
 Molieres</p>
 
 <p><b>DIMANCHE 5 AVRIL 2026 - 08h30 - 69 km - D+ 643 m
 - Op n°</b><a
 href="https://www.openrunner.com/route-details/23687313"
 target="_blank" rel="noreferrer
 noopener">23687313</a></p>
 
 <p>MOLIERES . L'HONOR-DE-COS .
 LAMOTHE-CAPDEVILLE . MIRABEL . REALVILLE . CAYRAC . BIOULE .
 SAINT-CIRQ . SEPTFONDS . CAUSSADE . MONTALZAT . MONTPEZAT-DE-QUERCY .
 MONTFERMIER . CASTELNAU-MONTRATIER . MOLIERES.</p>
URL;VALUE=URI:https://mcs.sportsregions.fr/evenements/2026/04/12/dimanche-12-avril-2026-2438914
END:VEVENT
END:VCALENDAR
