BEGIN:VCALENDAR
VERSION:2.0
PRODID:-//hacksw/handcal//NONSGML v1.0//EN
BEGIN:VEVENT
SUMMARY:Brevet 150 km Caussade
UID:3297ff54-c8bd-4d68-ad51-eb299b9b639c
DTSTART:20260411T050000Z
DTEND:20260411T150000Z
LOCATION:Localisation   
CATEGORIES:Sportif
STATUS:
DESCRIPTION:<h4><strong>Samedi 11 avril 2026 : Brevet Federal de 150
 km </strong></h4>
 
 <p>​</p>
 
 <p>CARTE DU PARCOURS au format PDF
 telechargeable <a
 href="https://www.caussade-cycloclub.fr/_files/ugd/0620c7_a9fbd8f90dec4c7faf7a5157be7a714b.pdf"
 target="_blank" rel="noreferrer noopener">ICI</a></p>
 
 <p>FEUILLE DE
 ROUTE au format XLS telechargeable <a
 href="https://www.caussade-cycloclub.fr/_files/ugd/0620c7_aae64fc6bd7e4c46a857e122be817949.xlsx?dn=Feuille%20route%20150%202026.xlsx"
 target="_blank" rel="noreferrer noopener">ICI</a></p>
 
 <p>​TRACE
 Openrunner n° 23166008</p>
 
 <p>​</p>
 
 <p>INSCRIPTION avant le
 vendredi 10 avril 12h : cliquer <a
 href="https://docs.google.com/forms/d/e/1FAIpQLScfHgqaQPa0-TS5O7t4QJo9lkMrIEoV7joj_Wk9aCSQ4G2WfQ/viewform?usp=publish-editor"
 target="_blank" rel="noreferrer noopener">ICI​</a></p>
 
 <p>Pour
 voir la liste des inscrits : cliquer <a
 href="https://docs.google.com/spreadsheets/d/1LGscc7qzKW8lbGVZsBqD0ngGkjkSEarXUNOozicCBYw/edit?usp=sharing"
 target="_blank" rel="noreferrer
 noopener">ICI</a></p>
 
 <p>​</p>
 
 <p>DEPART a 7h30 du Carre des
 chapeliers (Espace des Recollets) a Caussade, accueil a partir de
 7h</p>
 
 <p>​</p>
 
 <p>TARIFS
 :</p>
 
 <p>​​</p>
 
 <ul>
 	<li>
 	<p>Adherents FFCT du Cyclo Club
 Caussadais : gratuit</p>
 	</li>
 	<li>
 	<p>Adherents FFCT adultes : 2
 €</p>
 	</li>
 	<li>
 	<p>Adherents FFCT de moins de 18 ans :
 Gratuit</p>
 	</li>
 	<li>
 	<p>Adultes non adherents FFCT : 5
 €</p>
 	</li>
 	<li>
 	<p>Moins de 18 ans non adherents FFCT : 2
 €</p>
 	</li>
 </ul>
 
 <p>​​</p>
 
 <p>CONTACT : Jean-Claude
 BERTELLI 06 18 51 65 17 ou jc.bertelli[at]wanadoo.fr</p>
URL;VALUE=URI:https://mcs.sportsregions.fr/evenements/2026/04/11/brevet-150-km-caussade-2439216
END:VEVENT
END:VCALENDAR
