BEGIN:VCALENDAR
VERSION:2.0
PRODID:-//hacksw/handcal//NONSGML v1.0//EN
BEGIN:VEVENT
SUMMARY:Dimache 05 avril 2026
UID:90975744-dac3-4226-b6c5-223c2a91f957
DTSTART:20260405T063000Z
DTEND:20260405T100000Z
LOCATION:Localisation   
CATEGORIES:Sportif
STATUS:
DESCRIPTION:<p>Depart 08h30 devant la mairie de
 Molieres</p>
 
 <p><span style="font-size:11pt;"><span><span
 style="font-family:Cambria, serif;"><b>DIMANCHE 5 AVRIL 2026 - 08h30
 - 69 km - D+ 643 m - Op n°</b><a
 href="https://www.openrunner.com/route-details/23687313"
 target="_blank" rel="noreferrer noopener"><span
 style="text-decoration:none;"><span>23687313</span></span></a></span></span></span></p>
 
 <p><span
 style="font-size:11pt;"><span><span style="font-family:Cambria,
 serif;">MOLIERES . L'HONOR-DE-COS . LAMOTHE-CAPDEVILLE . MIRABEL .
 REALVILLE . CAYRAC . BIOULE . SAINT-CIRQ . SEPTFONDS . CAUSSADE .
 MONTALZAT . MONTPEZAT-DE-QUERCY . MONTFERMIER . CASTELNAU-MONTRATIER
 . MOLIERES.</span></span></span></p>
URL;VALUE=URI:https://mcs.sportsregions.fr/evenements/2026/04/05/dimache-05-avril-2026-2436172
END:VEVENT
END:VCALENDAR
