BEGIN:VCALENDAR
VERSION:2.0
PRODID:-//hacksw/handcal//NONSGML v1.0//EN
BEGIN:VEVENT
SUMMARY:Dimache 22 mars 2026
UID:eef19523-bf62-4dec-a19a-c726f521a345
DTSTART:20260322T073000Z
DTEND:20260322T110000Z
LOCATION:Localisation   
CATEGORIES:Sportif
STATUS:
DESCRIPTION:<p><span style="color:#2980b9;"><span
 style="font-size:20px;"><strong>Depart a 08h30 devant la mairie de
 Molieres. </strong></span></span></p>
 
 <h1><a
 href="https://www.openrunner.com/route-details/23489546"
 target="_blank" rel="noreferrer noopener"><span
 style="color:#e74c3c;">https://www.openrunner.com/route-details/23489546</span></a></h1>
 
 <p> </p>
URL;VALUE=URI:https://mcs.sportsregions.fr/evenements/2026/03/22/dimache-22-mars-2026-2429343
END:VEVENT
END:VCALENDAR
