BEGIN:VCALENDAR
VERSION:2.0
PRODID:-//hacksw/handcal//NONSGML v1.0//EN
BEGIN:VEVENT
SUMMARY:Dimanche 15 03 2026
UID:bb01cacd-921f-4d2b-bb6f-dac1943385df
DTSTART:20260315T073000Z
DTEND:20260315T110000Z
LOCATION:Localisation   
CATEGORIES:Sportif
STATUS:
DESCRIPTION:<p><strong>Depart a <u>08h30</u> devant la mairie de
 Molieres.</strong></p>
 
 <h2><a
 href="https://www.openrunner.com/route-details/23489546"
 target="_blank" rel="noreferrer
 noopener">https://www.openrunner.com/route-details/23489546</a></h2>
URL;VALUE=URI:https://mcs.sportsregions.fr/evenements/2026/03/15/dimanche-15-03-2026-2426279
END:VEVENT
END:VCALENDAR
